BEGIN:VCALENDAR
VERSION:2.0
PRODID:-//hacksw/handcal//NONSGML v1.0//EN
BEGIN:VEVENT
UID:69e73e96909e2
DTSTAMP:20260421T100838Z
DTSTART:20200303T083000Z
DTEND:20200304T183000Z
SUMMARY:Quickbooks Connect 2020
LOCATION:London W14 8UX
DESCRIPTION:QuickBooks Connect is a multi-day event that brings entrepreneurs, small business owners, accountants & developers together to grow, learn and connect with each other. 
GEO:-0.210699;-51.496641
END:VEVENT
END:VCALENDAR