BEGIN:VCALENDAR
VERSION:2.0
PRODID:-//hacksw/handcal//NONSGML v1.0//EN
BEGIN:VEVENT
UID:69e5e3a605771
DTSTAMP:20260420T092822Z
DTSTART:20260415T090000Z
DTEND:20260415T160000Z
SUMMARY:Fusion on the Road – Powered by TaxCalc & Engager
LOCATION:Birmingham B3 3AG
DESCRIPTION:
GEO:1.9015;-52.4807
END:VEVENT
END:VCALENDAR