BEGIN:VCALENDAR
VERSION:2.0
PRODID:-//hacksw/handcal//NONSGML v1.0//EN
BEGIN:VEVENT
UID:69e5e39b301ad
DTSTAMP:20260420T092811Z
DTSTART:20260311T090000Z
DTEND:20260312T170000Z
SUMMARY:The Finance, Accounting & Bookkeeping Show
LOCATION:Birmingham B40 1NT
DESCRIPTION:
GEO:-1.7212002;-52.4513857
END:VEVENT
END:VCALENDAR