BEGIN:VCALENDAR
VERSION:2.0
PRODID:-//hacksw/handcal//NONSGML v1.0//EN
BEGIN:VEVENT
UID:69e5e3b91cb91
DTSTAMP:20260420T092841Z
DTSTART:20260423T090000Z
DTEND:20260423T170000Z
SUMMARY:20:20 Innovation Spring Conference 2026 
LOCATION:Birmingham B92 0EJ
DESCRIPTION:
GEO:-1.7065805;-52.4444011
END:VEVENT
END:VCALENDAR